BEGIN:VCALENDAR
VERSION:2.0
PRODID:-//Dance &amp; Style - ECPv6.15.11//NONSGML v1.0//EN
CALSCALE:GREGORIAN
METHOD:PUBLISH
X-ORIGINAL-URL:https://dance-style.es/home
X-WR-CALDESC:Eventos para Dance &amp; Style
REFRESH-INTERVAL;VALUE=DURATION:PT1H
X-Robots-Tag:noindex
X-PUBLISHED-TTL:PT1H
BEGIN:VTIMEZONE
TZID:Europe/Madrid
BEGIN:DAYLIGHT
TZOFFSETFROM:+0100
TZOFFSETTO:+0200
TZNAME:CEST
DTSTART:20230326T010000
END:DAYLIGHT
BEGIN:STANDARD
TZOFFSETFROM:+0200
TZOFFSETTO:+0100
TZNAME:CET
DTSTART:20231029T010000
END:STANDARD
BEGIN:DAYLIGHT
TZOFFSETFROM:+0100
TZOFFSETTO:+0200
TZNAME:CEST
DTSTART:20240331T010000
END:DAYLIGHT
BEGIN:STANDARD
TZOFFSETFROM:+0200
TZOFFSETTO:+0100
TZNAME:CET
DTSTART:20241027T010000
END:STANDARD
BEGIN:DAYLIGHT
TZOFFSETFROM:+0100
TZOFFSETTO:+0200
TZNAME:CEST
DTSTART:20250330T010000
END:DAYLIGHT
BEGIN:STANDARD
TZOFFSETFROM:+0200
TZOFFSETTO:+0100
TZNAME:CET
DTSTART:20251026T010000
END:STANDARD
END:VTIMEZONE
BEGIN:VEVENT
DTSTART;TZID=Europe/Madrid:20240921T180000
DTEND;TZID=Europe/Madrid:20240921T193000
DTSTAMP:20260421T154801
CREATED:20240816T150410Z
LAST-MODIFIED:20240816T150852Z
UID:46651-1726941600-1726947000@dance-style.es
SUMMARY:KPOP WORKSHOP
DESCRIPTION:Más información próximamente
URL:https://dance-style.es/home/event/kpop-workshop/
CATEGORIES:Workshops
END:VEVENT
BEGIN:VEVENT
DTSTART;TZID=Europe/Madrid:20240914T160000
DTEND;TZID=Europe/Madrid:20240914T203000
DTSTAMP:20260421T154801
CREATED:20240812T150220Z
LAST-MODIFIED:20240815T224624Z
UID:46522-1726329600-1726345800@dance-style.es
SUMMARY:PRUEBAS DE COMPETICIÓN
DESCRIPTION:Casting adicional para todos los interesados en formar parte de los grupos de competición oficiales de la escuela: \nPara inscribirse será necesario enviar un email a info@dance-style.es indicando nombre completo y fecha de nacimiento. Una vez recibido\, os indicaremos la hora asignada en función de la categoría de edad. \nLa prueba consiste en realizar una clase normal de baile\, donde además se enseñará una pequeña rutina y se ejecutará junto con el resto de alumnos. \nMucha suerte a todos! \n 
URL:https://dance-style.es/home/event/pruebas-de-competicion/
LOCATION:Dance & Style\, Porches del Audiorama\, Planta Baja\, Zaragoza\, Zaragoza\, 50009\, España
CATEGORIES:Varios
END:VEVENT
BEGIN:VEVENT
DTSTART;VALUE=DATE:20240909
DTEND;VALUE=DATE:20240910
DTSTAMP:20260421T154801
CREATED:20240812T145134Z
LAST-MODIFIED:20240812T152029Z
UID:46518-1725840000-1725926399@dance-style.es
SUMMARY:INICIO DE CLASES
DESCRIPTION:Arrancan las clases de la temporada 2024 / 2025 en Dance & Style !
URL:https://dance-style.es/home/event/inicio-de-clases/
CATEGORIES:Varios
END:VEVENT
END:VCALENDAR